BEGIN:VCALENDAR
VERSION:2.0
PRODID:-//Centro de Exploración y Pensamiento Crítico - ECPv6.15.20//NONSGML v1.0//EN
CALSCALE:GREGORIAN
METHOD:PUBLISH
X-WR-CALNAME:Centro de Exploración y Pensamiento Crítico
X-ORIGINAL-URL:https://cex.mx
X-WR-CALDESC:Eventos para Centro de Exploración y Pensamiento Crítico
REFRESH-INTERVAL;VALUE=DURATION:PT1H
X-Robots-Tag:noindex
X-PUBLISHED-TTL:PT1H
BEGIN:VTIMEZONE
TZID:America/Mexico_City
BEGIN:STANDARD
TZOFFSETFROM:-0600
TZOFFSETTO:-0600
TZNAME:CST
DTSTART:20240101T000000
END:STANDARD
END:VTIMEZONE
BEGIN:VEVENT
DTSTART;TZID=America/Mexico_City:20251206T000000
DTEND;TZID=America/Mexico_City:20260131T170000
DTSTAMP:20260425T201121
CREATED:20251204T184651Z
LAST-MODIFIED:20251204T191743Z
UID:10001888-1764979200-1769878800@cex.mx
SUMMARY:Mesa de Papel y barro
DESCRIPTION:Mesa de papel y barroGráfica\, escultura\, cerámicaDiciembre 2024 | CEX – Universidad Iberoamericana \n\n\n\n\n\n\n\nEsta temporada\, regala arte.\n\n\n\nDurante Diciembre\, el CEX reúne a tres creadores que trabajan desde lugares muy distintos pero igual de esenciales: la materia\, el símbolo y la intuición. Papel\, barro\, hueso\, memoria. Obra que nace en la mesa \, esa geografía íntima donde algo empieza a tomar forma antes de tener nombre. \n\n\n\n \n\n\n\n\n\nJosé Luis Gutiérrez Brezmes (Josefo)Arquitecto por formación\, escultor por persistencia y escucha. Entre huesos\, maderas halladas\, alambres y papeles\, Josefo convoca criaturas pequeñas pero intensas\, casi mitológicas. Sus piezas se mueven entre la sombra y la línea: se leen con el cuerpo y se calibran con la mente. Su mirada entrenada proporción\, vacío\, recorrido sostiene un oficio directo\, táctil\, profundamente humano. \n\n\n\n\n\n\n\n\n\n\n\n\n\n\n\n\n\n\n\nJuan Carlos HenríquezSociólogo\, filósofo\, teólogo\, mitólogo. Un artista que esculpe preguntas más que respuestas. Su expresionismo inquietante mezcla cuerpo\, símbolo y fe: lo visible es apenas la superficie de lo que importa. Trabaja con instalaciones\, textiles\, performance\, gráfica y medios expandidos para crear experiencias que se atraviesan más que se observan. Su obra ha recorrido espacios culturales y académicos en la UNAM\, Casa ESRU\, Hacienda de los Morales y la IBERO. \n\n\n\n\n\n\n\nVerónica Aveleyra FernándezComunicóloga de origen\, ceramista por pasión y destino. Desde 2010 ha construido un universo propio donde textura y emoción dialogan en el barro. A veces trabaja con planos y estructura; otras\, desde la libertad de la forma que aparece sin avisar. Le inspiran lo urbano\, la naturaleza y esos eventos que nos sacuden y quieren compartirse. Divide su práctica entre pieza única y piezas de uso cotidiano; en 2023 creó TerraQueimada – Terra con Alma. También ha sido curadora de exposiciones de talleres de cerámica. \n\n\n\n\n\n\n\n\n\n\n\nVenta especial | Regala Arte6 y 13 de diciembreObras originales a precio taller.Durante todo Diciembre encontrarás piezas disponibles en la Mesa de papel y barro. \n\n\n\nHorariosLunes a viernes 12:00–18:00Sábado 12:00–15:00 \n\n\n\n\n\n\n\n\n\n\n\n\n\n\n\n\n\nSedeCEX – Centro de Exploración y Pensamiento CríticoUniversidad IberoamericanaAv. Revolución 1921\, Los Alpes\, Álvaro Obregón\, 01040 Ciudad de México.Más información: cex.mx
URL:https://cex.mx/cevent/mesa-de-papel-y-barro/
LOCATION:CEX\, Av. Revolución 1291\, CDMX\, CDMX\, 01010\, Mexico
CATEGORIES:Exposición
ATTACH;FMTTYPE=image/jpeg:https://cex.mx/wp-content/uploads/2025/12/WhatsApp-Image-2025-12-04-at-12.12.50-PM.jpeg
END:VEVENT
BEGIN:VEVENT
DTSTART;TZID=America/Mexico_City:20260127T120000
DTEND;TZID=America/Mexico_City:20260127T180000
DTSTAMP:20260425T201121
CREATED:20250926T042957Z
LAST-MODIFIED:20250929T154410Z
UID:10001631-1769515200-1769536800@cex.mx
SUMMARY:Hurto Culto
DESCRIPTION:Hurto Culto: un libro cada martes en el CEX\n\n\n\nCada martes\, el CEX abre un espacio distinto: un pequeño ritual en torno a los libros. Hurto Culto es nuestra manera de poner en circulación el catálogo de Ediciones Ibero\, ofreciendo a cada visitante la posibilidad de llevarse un ejemplar a casa\, completamente gratis. \n\n\n\n\n\n\n\n\n\nmás de 1500 títulos disponibles en nuestra Librería Virtual \n\n\n\nEdiciones Ibero\n\n\n\nVisita su catálogo completo y adquiere cualquier título en línea \n\n\n\n\nCatálogo\n\n\n\n\n\n\nLas publicaciones de la IBERO reúnen investigaciones\, ensayos y obras que cruzan disciplinas: desde ciencias sociales hasta filosofía\, arte\, literatura y pedagogía. Son libros nacidos en la universidad\, pero pensados para dialogar con una sociedad amplia y diversa. \n\n\n\n\n\n\n\nCon Hurto Culto buscamos algo más que entregar ejemplares: queremos fortalecer una comunidad de lectura. Un libro que cambia de manos siempre abre un puente\, despierta conversaciones\, siembra preguntas. Y en ese gesto sencillo —elegir un título\, llevárselo consigo— se teje una red cultural con nuestros vecinos\, estudiantes\, docentes y curiosos que pasan por aquí. \n\n\n\n\n\n\n\n\n\n\n\n\n\n\n\n\n\n\n\n\n\n\n\n\n\n\n\n\n\n \n\n\n\n\n\n\n\n\n\n\n\n\n\n \n\n\n\nTodos los MARTES\, ven al CEX y elige un libro de Ediciones Ibero completamente GRATIS. @publicaciones_ibero¡No te pierdas esta oportunidad de ampliar tu biblioteca! 🤓📍 Av. Revolución 1291\, Col. Alpes\, a una cuadra del metro Barranca del Muerto¡Te esperamos!#LaIberoTeRegalaUnLibro #EdicionesIbero #Cultura #Lectura#LibrosGratis #IberoCiudadDeMexico #CEX
URL:https://cex.mx/cevent/hurto-culto/2026-01-27/
LOCATION:CEX\, Av. Revolución 1291\, CDMX\, CDMX\, 01010\, Mexico
CATEGORIES:Literatura
ATTACH;FMTTYPE=image/jpeg:https://cex.mx/wp-content/uploads/2019/09/hurto-culto.jpg
ORGANIZER;CN="Cex":MAILTO:cex@ibero.mx
END:VEVENT
END:VCALENDAR