BEGIN:VCALENDAR
VERSION:2.0
PRODID:-//Centro de Exploración y Pensamiento Crítico - ECPv6.15.15//NONSGML v1.0//EN
CALSCALE:GREGORIAN
METHOD:PUBLISH
X-ORIGINAL-URL:https://cex.mx
X-WR-CALDESC:Eventos para Centro de Exploración y Pensamiento Crítico
REFRESH-INTERVAL;VALUE=DURATION:PT1H
X-Robots-Tag:noindex
X-PUBLISHED-TTL:PT1H
BEGIN:VTIMEZONE
TZID:America/Mexico_City
BEGIN:STANDARD
TZOFFSETFROM:-0600
TZOFFSETTO:-0600
TZNAME:CST
DTSTART:20230101T000000
END:STANDARD
END:VTIMEZONE
BEGIN:VEVENT
DTSTART;TZID=America/Mexico_City:20241203T190000
DTEND;TZID=America/Mexico_City:20241203T213000
DTSTAMP:20260422T232217
CREATED:20250609T172915Z
LAST-MODIFIED:20250609T172915Z
UID:10001580-1733252400-1733261400@cex.mx
SUMMARY:Ojos Abiertos\,  una noche de cine documental
DESCRIPTION:El colectivo Ojos de Perro es un proyecto que desde hace años ha puesto su mirada en las luchas por justicia\, memoria y derechos humanos en México.En la Ibero\, compartimos estos valores y estamos convencidos de que el arte y el cine tienen un poder transformador: el de visibilizar historias que incomodan\, pero que necesitan ser escuchadas. \n\n\n\n Agradecemos profundamente al equipo de Ojos de Perro por permitirnos ser un puente para estas voces y a ustedes por acompañarnos a esta velada de cine y realidad. \n\n\n\nLes esperamos para compartir una noche de cine para mirar\, pensar y accionar. En el CEX\, construimos ciudadanía crítica. \n\n\n\n\n\n \n\n\n\n\n\n\n\n\n\n\n\nATL. Lucha y libertad\n\n\n\n26 minutosEn San Pedro Tlanixco\, Estado de México\, los pobladores indígenas luchan contra el poder económico y político que busca despojarles de su agua para favorecer la industria floricultora. Tras la muerte sospechosa de un líder floricultor\, ocho son acusados injustamente\, detenidos\, torturados y condenados a prisión por hasta 16 años.2021 \n\n\n\n\n\n\n\n\n\nCamila. La justicia posible\n\n\n\n52 minutosCamila\, de 9 años\, fue víctima de abuso y feminicidio en el Valle de Chalco\, Estado de México. El crimen movilizó a la familia\, vecinos\, organismos de la sociedad civil y autoridades. La indignación y la presión social dio pie a la articulación de todos estos actores para atrapar y sentenciar al feminicida.2021 \n\n\n\n\n\n\n\n\n\n\n\n\n\n\n\n\n\n\n\nMirar Morir. Addendum\n\n\n\n27 minutosEn su primer informe de septiembre de 2015\, los expertos del GIEI demostraron la falsedad de la “verdad histórica” de la PGR sobre el caso Ayotzinapa. Pero el gobierno se aferró a ella y montó una campaña de difamación contra ellos\, hasta echarlos del país. El cortometraje Mirar Morir. Addendum retoma la historia desde el punto donde termina el documental Mirar Morir. El ejército en la noche de iguala hasta los más recientes hallazgos\, pasando por el compromiso de AMLO de llegar a la verdad y la justicia; indaga en el duro reto de corregir los vicios de las investigaciones y señala a poderosos personajes que también deben rendir cuentas por su papel en estos crímenes.2020
URL:https://cex.mx/cevent/ojos-abiertos-una-noche-de-cine-documental/
LOCATION:CEX\, Av. Revolución 1291\, CDMX\, CDMX\, 01010\, Mexico
CATEGORIES:Cine
ATTACH;FMTTYPE=image/png:https://cex.mx/wp-content/uploads/2024/11/Mesa-de-trabajo-1-copia-3@2x.png
ORGANIZER;CN="Cex":MAILTO:cex@ibero.mx
END:VEVENT
BEGIN:VEVENT
DTSTART;TZID=America/Mexico_City:20250918T190000
DTEND;TZID=America/Mexico_City:20250918T203000
DTSTAMP:20260422T232217
CREATED:20250904T185051Z
LAST-MODIFIED:20250904T195049Z
UID:10001607-1758222000-1758227400@cex.mx
SUMMARY:La chinoise (La mujer china)
DESCRIPTION:¡Cine\, debate y mucho más! \nTe invitamos a un ciclo de cine Francés en colaboración con la Alianza Francesa. Disfruta de una selección de películas aclamadas y quédate para un debate enriquecedor con el Mtro. Fernando Moreno\, un experto en cine. Es la oportunidad perfecta para analizar cada obra desde una perspectiva crítica. \n¡Te esperamos en el CEX Ibero! \n¡Prepárate para un diálogo profundo y enriquecedor! \nENTRADA LIBRE \n📍Av. Revolución 1291\, Col. Alpes\, a una cuadra del metro Barranca del Muerto. \nLa chinoise (La mujer china)\nJean-Luc Gobard. 1967\, 96 min. Francia.\nEn un apartamento cuyas paredes están cubiertas de pequeños libros rojos\, un grupo de jóvenes estudia el pensamiento marxista-leninista. Su líder\, Véronique\, propone al grupo asesinar a una figura pública. Realizada un año antes de los acontecimientos de mayo del 68\, “La Chinoise” es considerada una película profética. \n \n 
URL:https://cex.mx/cevent/la-chinoise-la-mujer-china/
LOCATION:CEX\, Av. Revolución 1291\, CDMX\, CDMX\, 01010\, Mexico
CATEGORIES:Cine
ATTACH;FMTTYPE=image/jpeg:https://cex.mx/wp-content/uploads/2025/09/WhatsApp-Image-2025-09-04-at-12.34.43-PM-3.jpeg
ORGANIZER;CN="Cex":MAILTO:cex@ibero.mx
END:VEVENT
BEGIN:VEVENT
DTSTART;TZID=America/Mexico_City:20251016T190000
DTEND;TZID=America/Mexico_City:20251016T203000
DTSTAMP:20260422T232217
CREATED:20250904T191129Z
LAST-MODIFIED:20250904T195011Z
UID:10001608-1760641200-1760646600@cex.mx
SUMMARY:À plein temps (A tiempo completo)
DESCRIPTION:¡Cine\, debate y mucho más! \nTe invitamos a un ciclo de cine Francés en colaboración con la Alianza Francesa. Disfruta de una selección de películas aclamadas y quédate para un debate enriquecedor con el Mtro. Fernando Moreno\, un experto en cine. Es la oportunidad perfecta para analizar cada obra desde una perspectiva crítica. \n¡Te esperamos en el CEX Ibero! \n¡Prepárate para un diálogo profundo y enriquecedor! \nENTRADA LIBRE \n📍Av. Revolución 1291\, Col. Alpes\, a una cuadra del metro Barranca del Muerto. \nÀ plein temps (A tiempo completo)\nÉric Gravel. 2021. 88 min. Francia.\nJulie se las arregla sola para criar a sus dos hijos. Cuando finalmente consigue una entrevista para un buen puesto\, se declara una huelga general que paraliza el transporte. Todo el frágil equilibrio de Julie se tambalea. Entonces se lanza en una carrera desenfrenada\, corriendo el riesgo de desmoronarse. \n \n 
URL:https://cex.mx/cevent/a-plein-temps-a-tiempo-completo/
LOCATION:CEX\, Av. Revolución 1291\, CDMX\, CDMX\, 01010\, Mexico
CATEGORIES:Cine
ATTACH;FMTTYPE=image/jpeg:https://cex.mx/wp-content/uploads/2025/09/WhatsApp-Image-2025-09-04-at-12.34.43-PM-1.jpeg
ORGANIZER;CN="Cex":MAILTO:cex@ibero.mx
END:VEVENT
BEGIN:VEVENT
DTSTART;TZID=America/Mexico_City:20251030T190000
DTEND;TZID=America/Mexico_City:20251030T210000
DTSTAMP:20260422T232217
CREATED:20250926T212200Z
LAST-MODIFIED:20250930T185553Z
UID:10001878-1761850800-1761858000@cex.mx
SUMMARY:Presunto Culpable
DESCRIPTION:Cine Ambulante presenta: Presunto Culpable \n\n\n\n¿Qué pasa cuando la justicia falla?Este impactante documental sigue la historia de Toño Zúñiga\, un tianguista de Iztapalapa acusado de un crimen que no cometió. Gracias al trabajo de los abogados Layda Negrete y Roberto Hernández\, su caso se convierte en un símbolo de lucha contra las fallas del sistema penal en México. \n\n\n\n📅 30 de octubre \n\n\n\n⏰ 19:00 hrs \n\n\n\nVen y descubre por qué Presunto culpable es más que un documental: es un llamado a repensar la justicia en nuestro país. \n\n\n\n📍Av. Revolución 1291 Col. Alpes. Es muy fácil llegar\, está a una cuadra del metro Barranca del Muerto.
URL:https://cex.mx/cevent/presunto-culpable/
LOCATION:CEX\, Av. Revolución 1291\, CDMX\, CDMX\, 01010\, Mexico
CATEGORIES:Cine
ATTACH;FMTTYPE=image/jpeg:https://cex.mx/wp-content/uploads/2025/09/MV5BNDU5YWM5OGItOTU3MS00NjM5LWJlOTMtODEyYjE4NDk4MWY2XkEyXkFqcGc@.jpg
END:VEVENT
BEGIN:VEVENT
DTSTART;TZID=America/Mexico_City:20251111T190000
DTEND;TZID=America/Mexico_City:20251111T210000
DTSTAMP:20260422T232217
CREATED:20251029T174935Z
LAST-MODIFIED:20251029T184710Z
UID:10001886-1762887600-1762894800@cex.mx
SUMMARY:MACABRO COVEN: Relatos de Tlahuelpuchi
DESCRIPTION:Cine dirigido por mujeres  \n\n\n\n·El Centro de Exploración y Pensamiento Crítico recibe a Macabro\, el Festival Internacional de Cine de Horror de la Ciudad de México\, en una colaboración especial que celebra la mirada femenina dentro del cine de terror.Durante más de dos décadas\, Macabro ha sido un espacio pionero para el cine de género en nuestro país. A través de su programa Macabro Coven\, el festival amplía su territorio para visibilizar el trabajo de mujeres cineastas y reflexionar sobre las formas en que el horror puede ser también un lenguaje de resistencia\, deseo y transformación.En esta edición\, titulada “Relatos de Tlahuelpuchi”\, se presentarán dos jornadas dedicadas a directoras que han reinventado los códigos del terror con una sensibilidad propia.📅   Lunes 11 de noviembre \n\n\n\nTHREE — Largometraje proveniente de Arabia Saudita que explora el miedo y la fe en un contexto profundamente distinto al occidental. Una obra inquietante que confirma la expansión global del género y el pulso femenino dentro de él. \n\n\n\n📅  Martes 12 de noviembre \n\n\n\nPrograma de cortometrajes:Agua corre · No le digas a papá · Fermento · En ciernes · Cuando abunda el silencio · Amanita · Camille · Té de rudaCada pieza ofrece una lectura distinta sobre la relación entre cuerpo\, deseo\, violencia y lo sobrenatural. Desde la intimidad doméstica hasta lo ancestral y ritual\, estas obras delinean un mapa del miedo contemporáneo hecho por mujeres. \n\n\n\nLas funciones contarán con la presencia de Edna Campos\, directora del festival Macabro\, y Mario Valencia\, programador\, quienes compartirán con el público un conversatorio posterior junto a las realizadoras invitadas.El ciclo es una colaboración entre Jennifer Remba y el CEX\, en el marco de nuestra vocación por abrir espacios de pensamiento crítico y experiencias estéticas que desafían las narrativas establecidas.📍 Centro de Exploración y Pensamiento Crítico\, IBERO Ciudad de México🕖 11 y 12 de noviembre · 19:00 h \n\n\n\n🎟 Entrada libre \n\n\n\n\n\n\n\n\n\n\n\n\n\n\nScreenshot
URL:https://cex.mx/cevent/a-plein-temps-a-tiempo-completo-2/
LOCATION:CEX\, Av. Revolución 1291\, CDMX\, CDMX\, 01010\, Mexico
CATEGORIES:Cine
ATTACH;FMTTYPE=image/jpeg:https://cex.mx/wp-content/uploads/2025/10/WhatsApp-Image-2025-10-22-at-10.07.09-AM-1.jpeg
END:VEVENT
BEGIN:VEVENT
DTSTART;TZID=America/Mexico_City:20251113T190000
DTEND;TZID=America/Mexico_City:20251113T210000
DTSTAMP:20260422T232217
CREATED:20250926T213246Z
LAST-MODIFIED:20250928T211032Z
UID:10001879-1763060400-1763067600@cex.mx
SUMMARY:Ciudad
DESCRIPTION:Cine Ambulante  presenta: Ciudad \n\n\n\nLa ciudad late\, respira y nos transforma.En este documental\, los cineastas Carlos F. Rossini\, Maya Goded\, Julio Hernández Cordón y Nuria Ibáñez nos invitan a mirar más allá de los edificios y calles\, para descubrir los gestos y la vida que florecen en cada rincón urbano. \n\n\n\nCiudad no es solo un retrato de la urbe: es un viaje poético hacia lo invisible\, hacia aquello que da sentido a la vida colectiva. \n\n\n\n🗓️ 13 de Noviembre⏰ 19:00 hrs \n\n\n\n¡Te esperamos! \n\n\n\n📍Av. Revolución 1291 Col. Alpes. Es muy fácil llegar\, está a una cuadra del metro Barranca del Muerto.
URL:https://cex.mx/cevent/ciudad/
LOCATION:CDMX
CATEGORIES:Cine
ATTACH;FMTTYPE=image/jpeg:https://cex.mx/wp-content/uploads/2025/09/WhatsApp-Image-2025-09-26-at-3.33.28-PM.jpeg
END:VEVENT
BEGIN:VEVENT
DTSTART;TZID=America/Mexico_City:20251120T190000
DTEND;TZID=America/Mexico_City:20251120T203000
DTSTAMP:20260422T232217
CREATED:20250904T192103Z
LAST-MODIFIED:20250904T194902Z
UID:10001609-1763665200-1763670600@cex.mx
SUMMARY:Je verrai toujours vos visages (Las dos caras de la justicia)
DESCRIPTION:  \n¡Cine\, debate y mucho más! \nTe invitamos a un ciclo de cine Francés en colaboración con la Alianza Francesa. Disfruta de una selección de películas aclamadas y quédate para un debate enriquecedor con el Mtro. Fernando Moreno\, un experto en cine. Es la oportunidad perfecta para analizar cada obra desde una perspectiva crítica. \n¡Te esperamos en el CEX Ibero! \n¡Prepárate para un diálogo profundo y enriquecedor! \nENTRADA LIBRE \n📍Av. Revolución 1291\, Col. Alpes\, a una cuadra del metro Barranca del Muerto. \nJe verrai toujours vos visages (Las dos caras de la justicia)\nJeanne Herry. 2023\, 118 min. Francia.\nDesde 2014\, en Francia\, la Justicia Restaurativa ofrece a las víctimas y a los autores de delitos\, la oportunidad de dialogar a través de sistemas seguros\, supervisados por profesionales y voluntarios. En su viaje\, hay ira esperanza\, silencio\, conciencia\, confianza recuperada\, y al final del trayecto\, a veces\, la reparación. \n \n 
URL:https://cex.mx/cevent/je-verrai-toujours-vos-visages-las-dos-caras-de-la-justicia/
LOCATION:CEX\, Av. Revolución 1291\, CDMX\, CDMX\, 01010\, Mexico
CATEGORIES:Cine
ATTACH;FMTTYPE=image/jpeg:https://cex.mx/wp-content/uploads/2025/09/WhatsApp-Image-2025-09-04-at-12.34.43-PM-2.jpeg
ORGANIZER;CN="Cex":MAILTO:cex@ibero.mx
END:VEVENT
BEGIN:VEVENT
DTSTART;TZID=America/Mexico_City:20251211T190000
DTEND;TZID=America/Mexico_City:20251211T203000
DTSTAMP:20260422T232217
CREATED:20250904T193313Z
LAST-MODIFIED:20250904T194603Z
UID:10001610-1765479600-1765485000@cex.mx
SUMMARY:La haine (El odio)
DESCRIPTION:¡Cine\, debate y mucho más! \nTe invitamos a un ciclo de cine Francés en colaboración con la Alianza Francesa. Disfruta de una selección de películas aclamadas y quédate para un debate enriquecedor con el Mtro. Fernando Moreno\, un experto en cine. Es la oportunidad perfecta para analizar cada obra desde una perspectiva crítica. \n¡Te esperamos en el CEX Ibero! \n¡Prepárate para un diálogo profundo y enriquecedor! \nENTRADA LIBRE \n📍Av. Revolución 1291\, Col. Alpes\, a una cuadra del metro Barranca del Muerto. \nLa haine (El odio)\nMathieu Kassovitz. 1995\, 98 min. Francia.\nDurante toda la noche\, los jóvenes del barrio de “Les Muguets” se enfrentan a la policía\, ya que Abdel\, un chico de dieciséis años\, fue brutalmente golpeado durante un interrogatorio y está por morir. Entre esos cegados por el odio\, hay tres muchachos sin antecedentes: Hubert. Saïd y Vinz. Juntos\, están a punto de vivir el día más importante de sus vidas \n \n 
URL:https://cex.mx/cevent/la-haine-el-odio/
LOCATION:CEX\, Av. Revolución 1291\, CDMX\, CDMX\, 01010\, Mexico
CATEGORIES:Cine
ATTACH;FMTTYPE=image/jpeg:https://cex.mx/wp-content/uploads/2025/09/WhatsApp-Image-2025-09-04-at-12.34.43-PM.jpeg
ORGANIZER;CN="Cex":MAILTO:cex@ibero.mx
END:VEVENT
BEGIN:VEVENT
DTSTART;TZID=America/Mexico_City:20260318T190000
DTEND;TZID=America/Mexico_City:20260318T210000
DTSTAMP:20260422T232217
CREATED:20260309T194635Z
LAST-MODIFIED:20260324T210104Z
UID:10001895-1773860400-1773867600@cex.mx
SUMMARY:Le retour (Regreso a Córcega)
DESCRIPTION:¡Cine\, debate y mucho más! \nTe invitamos a un ciclo de cine Francés en colaboración con la Alianza Francesa. Disfruta de una selección de películas aclamadas y quédate para un debate enriquecedor  desde una perspectiva crítica. \n¡Te esperamos en el CEX Ibero! \n¡Prepárate para un diálogo profundo y enriquecedor! \nENTRADA LIBRE \n📍Av. Revolución 1291\, Col. Alpes\, a una cuadra del metro Barranca del Muerto. \nLe retour (Regreso a Córcega)\nCatherine Corsini. 2023\, 110 min. Francia.\nKhédidja trabaja para una familia adinerada en París que le ofrece cuidar de los niños durante el verano en Córcega. Esta es una oportunidad para ella deregresar a la isla que dejó atrás hace años junto a sus hijas\, Jessica y Farah. Mientras Khédidja lucha con sus recuerdos\, las dos adolescentes se entregana todas las tentaciones del verano: encuentros inesperados\, travesuras y sus primeras experiencias amorosas. \nNo te pierdas ninguna película de este ciclo
URL:https://cex.mx/cevent/le-retour-regreso-a-corcega/
LOCATION:CEX\, Av. Revolución 1291\, CDMX\, CDMX\, 01010\, Mexico
CATEGORIES:Cine
ATTACH;FMTTYPE=image/jpeg:https://cex.mx/wp-content/uploads/2026/03/WhatsApp-Image-2026-02-10-at-13.23.11-5.jpeg
ORGANIZER;CN="Cex":MAILTO:cex@ibero.mx
END:VEVENT
BEGIN:VEVENT
DTSTART;TZID=America/Mexico_City:20260422T190000
DTEND;TZID=America/Mexico_City:20260422T210000
DTSTAMP:20260422T232217
CREATED:20260309T195211Z
LAST-MODIFIED:20260324T210531Z
UID:10001896-1776884400-1776891600@cex.mx
SUMMARY:Les pires (Los peores)
DESCRIPTION:¡Cine\, debate y mucho más! \nTe invitamos a un ciclo de cine Francés en colaboración con la Alianza Francesa. Disfruta de una selección de películas aclamadas y quédate para un debate enriquecedor  desde una perspectiva crítica. \n¡Te esperamos en el CEX Ibero! \n¡Prepárate para un diálogo profundo y enriquecedor! \nENTRADA LIBRE \n📍Av. Revolución 1291\, Col. Alpes\, a una cuadra del metro Barranca del Muerto. \nLes pires (Los peores)\nLise Akoka y Romane Gueret. 2022\, 96 min. Francia.\nUn rodaje cinematográfico va a comenzar en Boulogne-Sur-Mer\, al norte de Francia. Durante el casting\, cuatro niños y adolescentes (Lily\, Ryan\, Maylis y \nJessy son elegidos para participar en la película. En el barrio todos se sorprenden: ¿por qué escoger sólo a “los peores”?
URL:https://cex.mx/cevent/les-pires-los-peores/
LOCATION:CEX\, Av. Revolución 1291\, CDMX\, CDMX\, 01010\, Mexico
CATEGORIES:Cine
ATTACH;FMTTYPE=image/jpeg:https://cex.mx/wp-content/uploads/2026/03/WhatsApp-Image-2026-02-10-at-13.23.12-2.jpeg
ORGANIZER;CN="Cex":MAILTO:cex@ibero.mx
END:VEVENT
BEGIN:VEVENT
DTSTART;TZID=America/Mexico_City:20260520T190000
DTEND;TZID=America/Mexico_City:20260520T210000
DTSTAMP:20260422T232217
CREATED:20260309T195514Z
LAST-MODIFIED:20260309T195516Z
UID:10001897-1779303600-1779310800@cex.mx
SUMMARY:Vingt Dieux (La receta perfecta)
DESCRIPTION:¡Cine\, debate y mucho más! \nTe invitamos a un ciclo de cine Francés en colaboración con la Alianza Francesa. Disfruta de una selección de películas aclamadas y quédate para un debate enriquecedor  desde una perspectiva crítica. \n¡Te esperamos en el CEX Ibero! \n¡Prepárate para un diálogo profundo y enriquecedor! \nENTRADA LIBRE \n📍Av. Revolución 1291\, Col. Alpes\, a una cuadra del metro Barranca del Muerto. \nVingt Dieux (La receta perfecta)\nLuisa Courvoisier. 2024\, 98 min. Francia.\nTotone\, de 18 años\, pasa la mayor parte del tiempo bebiendo cerveza y yendo de fiesta con sus amigos\, en la región del Jura. Pero la realidad y ladesgracia le atraban. v tene que buscarse la vida v cuidar a su hermana de / años. Entonces se propone fabricar el mejor queso Comté de la región\, el quele narla ganar la medalla de oro en el concurso agricola.
URL:https://cex.mx/cevent/vingt-dieux-la-receta-perfecta/
LOCATION:CEX\, Av. Revolución 1291\, CDMX\, CDMX\, 01010\, Mexico
CATEGORIES:Cine
ATTACH;FMTTYPE=image/jpeg:https://cex.mx/wp-content/uploads/2026/03/WhatsApp-Image-2026-02-10-at-13.23.12-3.jpeg
ORGANIZER;CN="Cex":MAILTO:cex@ibero.mx
END:VEVENT
END:VCALENDAR