BEGIN:VCALENDAR
VERSION:2.0
PRODID:-//Centro de Exploración y Pensamiento Crítico - ECPv6.15.15//NONSGML v1.0//EN
CALSCALE:GREGORIAN
METHOD:PUBLISH
X-ORIGINAL-URL:https://cex.mx
X-WR-CALDESC:Eventos para Centro de Exploración y Pensamiento Crítico
REFRESH-INTERVAL;VALUE=DURATION:PT1H
X-Robots-Tag:noindex
X-PUBLISHED-TTL:PT1H
BEGIN:VTIMEZONE
TZID:America/Mexico_City
BEGIN:STANDARD
TZOFFSETFROM:-0600
TZOFFSETTO:-0600
TZNAME:CST
DTSTART:20250101T000000
END:STANDARD
END:VTIMEZONE
BEGIN:VEVENT
DTSTART;TZID=America/Mexico_City:20260430T200000
DTEND;TZID=America/Mexico_City:20260430T210000
DTSTAMP:20260423T022112
CREATED:20260406T231703Z
LAST-MODIFIED:20260407T041713Z
UID:10001899-1777579200-1777582800@cex.mx
SUMMARY:Teatro en atril
DESCRIPTION:Lectura en atril — Palomas\n\n\n\nMariana Villalobos\n\n\n\nP a l o m a s  es una obra que busca propiciar un encuentro teatral donde todos los participantes del suceso escénico logren preguntarse\, ¿cuáles eran sus sueños de libertad en esa hirviente juventud? ¿Cuándo perdimos la fiereza y la rebeldía? ¿Cómo entendíamos esos conceptos? ¿Cuándo dejamos de creer que podíamos cambiar el mundo? \n\n\n\n\n\n\n\nSinopsis:\n\n\n\nEs 2054. \n\n\n\n La Ciudad de México desapareció. Todo desapareció. Ahora el territorio se divide en parajes y el dinero\, en su virtualidad\, dejó de tener la misma relevancia\, lo verdaderamente valioso del momento es lo tangible\, la carne\, lo que se tiene adentro. La ONRO (Orden Nacional para la Recolección de Órganos) se encarga de velar por esa misión; la de proveer a los poderosos de los adentros más valiosos\, los más exquisitos. Carla\, Unde y Rodri son tres jóvenes que viven en el paraje doce bajo una peculiar rutina. La visita inesperada de la ONRO a su paraje sólo significa una cosa\, el orden de la extracción de órganos no está siendo respetado\, ahora quieren más. Para salvarse\, los tres amigos pondrán en marcha el plan de escape que alguna vez idearon juntos. Dentro de un gigante hombre alado\, el trío intentará conservar lo más valioso que tienen\, o tal vez\, descubrirá qué es lo más valioso que tiene… \n\n\n\n \n\n\n\nTítulo: P A L O M A S \n\n\n\nDramaturgia y dirección: Mariana Villalobos \n\n\n\nElenco: Luz Barragán\, Manuel Cruz Vivas y Emmanuel Pavía \n\n\n\nFrase: “La libertad es como un número primo…” \n\n\n\n\n\n\n\nDetalles del evento\n\n\n\n📅 Jueves 30 de abril🕖 20:00 h \n\n\n\n📍 Foro CEX IberoCiudad de México \n\n\n\n🎭 Formato: Lectura en atril 👥 Público sugerido: adolescentes y adultos (+12) \n\n\n\n\n\n\n\nAparta tu lugar\n\n\n\n\nEventbrite\n\n\n\n\n🎟 Entrada libre\n\n\n\n\n\n📍 CEX – Centro de Exploración y Pensamiento CríticoAv. Revolución 1291\, Álvaro Obregón\, CDMX
URL:https://cex.mx/cevent/teatro-en-atril-8/
LOCATION:cex\, Av.Revolucion 1291\, CDMX\, 01040
CATEGORIES:Literatura,Teatro
ATTACH;FMTTYPE=image/jpeg:https://cex.mx/wp-content/uploads/2026/04/Mesa-de-trabajo-2_1-80.jpg
END:VEVENT
END:VCALENDAR