BEGIN:VCALENDAR
VERSION:2.0
PRODID:-//Centro de Exploración y Pensamiento Crítico - ECPv6.15.20//NONSGML v1.0//EN
CALSCALE:GREGORIAN
METHOD:PUBLISH
X-WR-CALNAME:Centro de Exploración y Pensamiento Crítico
X-ORIGINAL-URL:https://cex.mx
X-WR-CALDESC:Eventos para Centro de Exploración y Pensamiento Crítico
REFRESH-INTERVAL;VALUE=DURATION:PT1H
X-Robots-Tag:noindex
X-PUBLISHED-TTL:PT1H
BEGIN:VTIMEZONE
TZID:America/Mexico_City
BEGIN:STANDARD
TZOFFSETFROM:-0600
TZOFFSETTO:-0600
TZNAME:CST
DTSTART:20250101T000000
END:STANDARD
END:VTIMEZONE
BEGIN:VEVENT
DTSTART;TZID=America/Mexico_City:20260319T200000
DTEND;TZID=America/Mexico_City:20260319T210000
DTSTAMP:20260424T063532
CREATED:20260310T202345Z
LAST-MODIFIED:20260330T200415Z
UID:10001898-1773950400-1773954000@cex.mx
SUMMARY:Teatro en atril
DESCRIPTION:Lectura en atril — Work in Progress\n\n\n\nEl Códice Marciano\n\n\n\nEl Códice Marciano \n\n\n\nEl Centro de Exploración y Pensamiento Crítico (CEX Ibero) presenta una lectura dramatizada a manera de work in progress de El Códice Marciano\, un proyecto escénico que imagina la Ciudad de México como un territorio fantástico donde lo cotidiano convive con lo extraordinario. \n\n\n\nEn un túnel olvidado del Metro se reúnen once personas nacidas en distintas épocas del Valle de México. Cada una posee una habilidad fuera de lo común que\, lejos de integrarlos a la sociedad\, los ha convertido en figuras marginales. En ese espacio subterráneo —donde un antiguo ídolo prehispánico altera el tiempo de los cuerpos— sus historias comienzan a entrelazarse mientras intentan comprender qué papel juegan dentro de una ciudad que parece tener voluntad propia. \n\n\n\nInspirada en Las crónicas marcianas de Ray Bradbury\, la obra propone una crónica fantástica de la Ciudad de México construida a partir de relatos escénicos que mezclan memoria urbana\, cultura pop y mitología contemporánea.  \n\n\n\nEsta sesión permitirá conocer un fragmento del proceso creativo antes de su montaje final\, así como abrir un espacio de conversación con el equipo artístico sobre el desarrollo del proyecto. \n\n\n\n\n\n\n\nSobre el director\n\n\n\nDiego Álvarez Robledo — Dramaturgia y dirección \n\n\n\n\n\n\n\nDiego Álvarez Robledo — Dramaturgia y dirección \n\n\n\nEscritor\, director y diseñador escénico originario de la Ciudad de México. Es miembro fundador de la compañía Principio Investigadores Escénicos y uno de los creadores más prolíficos de su generación. Es docente en la Licenciatura de Actuación en CasAzul. \n\n\n\nHa dirigido más de treinta montajes y su trabajo se ha presentado en diversos teatros y festivales en México y el extranjero. Ha sido becario de la Fundación para las Letras Mexicanas y del programa Jóvenes Creadores del FONCA\, además de recibir el Premio Nacional de Dramaturgia Gerardo Mancebo del Castillo. Actualmente forma parte del Sistema Nacional de Creadores de Arte (SACPC).  \n\n\n\nSu obra explora la relación entre ciudad\, memoria y ficción\, combinando influencias del teatro contemporáneo\, la literatura fantástica y la cultura visual. \n\n\n\nSobre el colectivo \n\n\n\n\n\n\n\nSobre el colectivo\n\n\n\nEstación Disritmia \n\n\n\nColectivo teatral conformado por once intérpretes que actualmente cursan el último semestre de la Licenciatura en Actuación de la Escuela de Artes Escénicas y Audiovisuales CasAzul. Su trabajo se centra en el encuentro\, el riesgo escénico y el juego como motores de creación colectiva. \n\n\n\nEl grupo busca explorar nuevas formas de narrar la ciudad y sus imaginarios a través de procesos colaborativos donde la actuación\, la dramaturgia y la experimentación escénica dialogan entre sí. \n\n\n\nIntegrantes de la 5ta  generación de la Licenciatura en Actuación de la Escuela de Artes Escénicas y Audiovisuales CasAzul: \n\n\n\nKrizia Jiménez \n\n\n\nSantiago Ruíz \n\n\n\nVivian Roldán \n\n\n\nAndrés Torres \n\n\n\nManuel Santana \n\n\n\nSilvia Suárez \n\n\n\nOrión Guzmán \n\n\n\nIlse García \n\n\n\nKeiji Ramírez \n\n\n\nIsrael Sago \n\n\n\nAugusto Roma  \n\n\n\n\n\n\n\n\n\n\n\n\n\n\n\n\n\n\n\n\n\nDetalles del evento\n\n\n\n📅 Jueves 19 de marzo🕖 20:00 h \n\n\n\n📍 Foro CEX IberoUniversidad IberoamericanaCiudad de México \n\n\n\n🎭 Formato: Lectura en atril — Work in Progress👥 Público sugerido: adolescentes y adultos (+12) \n\n\n\nAl finalizar la lectura se abrirá una conversación con el equipo creativo sobre el proceso de desarrollo de la obra. \n\n\n\n\n\n\n\n\n\n\n\n\n\nAparta tu lugar\n\n\n\n\nEventbrite\n\n\n\n\n🎟 Entrada libre\n\n\n\n\n\n📍 CEX – Centro de Exploración y Pensamiento CríticoAv. Revolución 1291\, Álvaro Obregón\, CDMX
URL:https://cex.mx/cevent/teatro-en-atril-7/
LOCATION:cex\, Av.Revolucion 1291\, CDMX\, 01040
CATEGORIES:Literatura,Teatro
ATTACH;FMTTYPE=image/jpeg:https://cex.mx/wp-content/uploads/2026/03/Mesa-de-trabajo-2_1-80.jpg
END:VEVENT
END:VCALENDAR