BEGIN:VCALENDAR
VERSION:2.0
PRODID:-//Centro de Exploración y Pensamiento Crítico - ECPv6.15.15//NONSGML v1.0//EN
CALSCALE:GREGORIAN
METHOD:PUBLISH
X-ORIGINAL-URL:https://cex.mx
X-WR-CALDESC:Eventos para Centro de Exploración y Pensamiento Crítico
REFRESH-INTERVAL;VALUE=DURATION:PT1H
X-Robots-Tag:noindex
X-PUBLISHED-TTL:PT1H
BEGIN:VTIMEZONE
TZID:America/Mexico_City
BEGIN:DAYLIGHT
TZOFFSETFROM:-0600
TZOFFSETTO:-0500
TZNAME:CDT
DTSTART:20210404T080000
END:DAYLIGHT
BEGIN:STANDARD
TZOFFSETFROM:-0500
TZOFFSETTO:-0600
TZNAME:CST
DTSTART:20211031T070000
END:STANDARD
BEGIN:DAYLIGHT
TZOFFSETFROM:-0600
TZOFFSETTO:-0500
TZNAME:CDT
DTSTART:20220403T080000
END:DAYLIGHT
BEGIN:STANDARD
TZOFFSETFROM:-0500
TZOFFSETTO:-0600
TZNAME:CST
DTSTART:20221030T070000
END:STANDARD
END:VTIMEZONE
BEGIN:VEVENT
DTSTART;TZID=America/Mexico_City:20250911T190000
DTEND;TZID=America/Mexico_City:20250911T220000
DTSTAMP:20260422T140803
CREATED:20250909T201156Z
LAST-MODIFIED:20250909T201337Z
UID:10001612-1757617200-1757628000@cex.mx
SUMMARY:HADES
DESCRIPTION:Henríquez retoma la historia de Sísifo no como un relato de derrota\, sino como una imagen de la resiliencia humana: volver a levantarse\, insistir\, hallar sentido incluso en la repetición. \nHades es un conjunto de diez piezas de gran formato que forman una instalación transitable dispuesta a manera de estaciones. Evoca el silencio de las catacumbas y nos coloca frente al destino ineludible de lo perecedero\, pero también abre un espacio para experimentar la fuerza de seguir caminando. \nAl recorrerla\, cada espectador habita su propia escala: somos diminutos ante la inmensidad y a la vez capaces de cargar con ella. El tránsito entre estas esculturas es a la vez interior: un recordatorio de que la condición humana no se agota en la caída\, sino que se reinventa en cada nuevo ascenso. \n  \n  \n  \n  \n  \n \n“El reciente trabajo escultórico de Juan Carlos Henríquez\, sin duda es una cita al mito\, pero es una “cita” hecha en materia y volumen\, al menos eso pareciera en un primer momento. Su obra saca el volumen escultórico de su ensimismamiento para producir su espaciamiento. Con este gesto\, el artista genera una red compleja de emociones en el espectador\, relacionada con el lugar que ocupan las esculturas\, y que pide al observador colocar sus sentidos conforme al modo en que en cada pieza produce un “paisaje”; corresponde al espectador conformarlo. \nDr. José Luis Barrios\, Curador. \n \nA lo largo de su trayectoria\, Juan Carlos Henríquez se ha encargado de realizar proyectos que apelan directamente al espectador para hacerlo cuestionar su propia condición. Lo anterior lo realiza tanto en sus instalaciones artísticas\, como en esta nueva apuesta escultórica\, e incluso como director artístico y académico. Su vida misma no se entiende sin esa virtud de involucrarnos en las obras que realiza: su arte nos cuestiona\, nos confronta\, nos obliga a pensar. Dicho brevemente\, quien se aventure a conocer esta nueva colección\, se encontrará con el desafío de mirarse a sí mismo a través del crisol de la espiritualidad que deriva en arte. Sirvan estas palabras como invitación para atreverse a hacerlo. \nDr. Luis Arriaga Valenzuela\, S. J. Rector Universidad Iberoamericana Ciudad de México. \n\nDra. Amparo Espinosa Rugarcía\,\nDirectora General y Fundadora de Fundación Espinosa Rugarcía Mtra.\nElizabeth Rugarcía Christianson\,\nDirectora de Fundación Espinosa Rugarcía Puebla Lic. K. Andrea Serna Sandoval\, Responsable de Relaciones Públicas Fundación Espinosa Rugarcía Puebla\nDr. Luis Arriaga Valenzuela\, S. J. Rector Universidad Iberoamericana Ciudad de México\nDr. Alejandro Anaya Muñoz Vice Rector Universidad Iberoamericana Ciudad de México\nDaniel Dávila Operación CEX\nAlfonso Escudero Imagen CEX\nÁngel Aburto Montaje CEX Exposición organizada por la Fundación Espinosa Rugarcía (ESRU) en colaboración con el Centro de Exploración y Pensamiento Crítico (CEX) de la Universidad Iberoamericana.\n\n 
URL:https://cex.mx/cevent/hades/
LOCATION:CEX\, Av. Revolución 1291\, CDMX\, CDMX\, 01010\, Mexico
CATEGORIES:Exposición
ATTACH;FMTTYPE=image/jpeg:https://cex.mx/wp-content/uploads/2025/09/WhatsApp-Image-2025-09-09-at-1.50.00-PM-1.jpeg
ORGANIZER;CN="Cex":MAILTO:cex@ibero.mx
END:VEVENT
BEGIN:VEVENT
DTSTART;TZID=America/Mexico_City:20250807T190000
DTEND;TZID=America/Mexico_City:20250807T220000
DTSTAMP:20260422T140803
CREATED:20250909T194205Z
LAST-MODIFIED:20250909T202125Z
UID:10001611-1754593200-1754604000@cex.mx
SUMMARY:"Sísifo" Hacienda de los Morales
DESCRIPTION:[vc_row][vc_column][vc_column_text css=””]Artista y sociólogo Juan Carlos Henríquez\, S.J.\, inauguró la exposición Sísifo en la Hacienda de los Morales\, organizada por el Centro de Exploración y Pensamiento Crítico (CEX) de la Universidad Iberoamericana Ciudad de México. \nLa muestra exhibe 18 esculturas en formato pequeño en bronce\, cerámica de alta temperatura\, polímeros y concreto pulido que forman parte de un conjunto de 30 piezas inspiradas en el mito griego de Sísifo\, el rey condenado a empujar una roca montaña arriba para verla caer una y otra vez. Las restantes\, de gran formato\, se presentarán próximamente en Puebla. \n \n“En ninguna veremos representado a Sísifo… porque acaso los Sísifos somos nosotros. Sísifo es al mismo tiempo su propia montaña\, su propia carga\, su propia cima”\, expresó Henríquez. \nEl evento inició con el tradicional corte de listón\, encabezado por Lorena Abrahamsohn\, gestora del CEX\, quien dio la bienvenida a las y los asistentes\, acompañada por el Rector de la IBERO\, Dr. Luis Arriaga Valenzuela\, S.J.\, el creador Juan Carlos Henríquez y asistentes especiales. \nHenríquez explicó que las piezas fueron concebidas pensando en “miniaturizarnos” para recorrerlas “contemplativamente\, en soledad con nosotros mismos”\, ejercicio que retoma de la metodología de San Ignacio de Loyola. \nTodas las esculturas\, señaló\, comparten “una forma de mutilación\, una extracción” que representa la carga que habrá de subirse a la cima. \n \nEl Dr. Claudio Flores\, por su lado\, destacó que el trabajo del artista “nutre cada pieza y cada pátina con una reflexión profunda\, analítica y crítica” y provoca al espectador: “No busca darnos explicaciones\, sino provocarnos preguntas”. \nAdemás\, Flores ofreció el vino de honor con una edición especial de su etiqueta Mar de Fondo. \n \nSentido en la repetición\nEn la ceremonia\, el Rector de la IBERO\, Dr. Luis Arriaga Valenzuela\, S.J.\, quien prologó el libro-arte de la exposición\, destacó que la obra de Henríquez transforma la noción de castigo del mito: \n“La roca deja de ser castigo para convertirse en deseo de vivir y el deseo también de permanecer… Estas esculturas nos sitúan en ese instante decisivo en el que uno elige volver a empezar. En ellas se afirma una visión de lo humano como posibilidad inacabada\, siempre con una oportunidad para rehacerse”. \n \n“Estas piezas están buscando de qué estamos hechos\, cómo es la arquitectura de nuestra humanidad. Es como encontrar el consuelo\, la comprensión\, que somos imperfectos\, que nos falta algo\, pero que lo podemos encontrar en otras personas\, a pesar de que también esa persona es incompleta igual que yo”\, explicó. \nLa exposición permanecerá abierta en la Hacienda de los Morales\, Juan Vázquez de Mella 525\, Polanco. \n \n \n[/vc_column_text][/vc_column][/vc_row][vc_row][vc_column width=”1/2″][/vc_column][vc_column width=”1/2″][/vc_column][/vc_row][vc_row][vc_column][vc_btn title=”El Universal” css=”” link=”url:https%3A%2F%2Fwww.eluniversal.com.mx%2Fcultura%2Fsisifo-una-experiencia-escultorica-que-invita-a-sentir-nuestra-propia-carga%2F|title:Articulo|target:_blank”][/vc_column][/vc_row]
URL:https://cex.mx/cevent/sisifo-hacienda-de-los-morales/
LOCATION:CEX\, Av. Revolución 1291\, CDMX\, CDMX\, 01010\, Mexico
CATEGORIES:Exposición
ATTACH;FMTTYPE=image/webp:https://cex.mx/wp-content/uploads/2025/09/037A4228.webp
ORGANIZER;CN="Cex":MAILTO:cex@ibero.mx
END:VEVENT
BEGIN:VEVENT
DTSTART;TZID=America/Mexico_City:20250626T080000
DTEND;TZID=America/Mexico_City:20250626T090000
DTSTAMP:20260422T140803
CREATED:20250612T193322Z
LAST-MODIFIED:20250612T194303Z
UID:10001604-1750924800-1750928400@cex.mx
SUMMARY:Teatro en atril
DESCRIPTION:[vc_row full_width=”stretch_row” gap=”5″ equal_height=”yes”][vc_column][vc_column_text css=””]CEX y Teatro al Vacío presentan\n\nTeatro en Atril\n\nPrimera lectura dramatizada de la serie\n\nNO FUMAR\n\nObra para payaso\, terapeuta y cajetilla de cigarrillos\n🗓 Jueves 26 de junio\n🕗 20:00 h\n📍 CEX\n🎟 Entrada libre\n\nInspirada libremente en Sobre el daño que causa el tabaco de Antón Chéjov\, NO FUMAR toma como punto de partida este célebre monólogo para llevarlo al terreno de la comedia negra contemporánea. Aquí\, un cigarrillo encendido se convierte en el epicentro de una sesión de terapia grupal improvisada donde las emociones explotan y las máscaras caen.\n\nUn payaso que busca dejar de fumar y una terapeuta al borde del colapso emocional se enfrentan a sus propias contradicciones\, adicciones y deseos en un juego escénico tan absurdo como revelador. Con humor mordaz y confesiones incendiarias\, la obra cuestiona nuestras dependencias afectivas y existenciales.\n\nUna comedia feroz sobre los vicios compartidos…\n\nHumor negro\, confesiones absurdas y verdades que arden.\n\nAntón Chéjov (1860–1904)\n\nUno de los grandes maestros del cuento corto y dramaturgo clave del teatro moderno. Su obra Sobre el daño que causa el tabaco es una pieza breve pero poderosa que mezcla humor y patetismo para revelar las frustraciones humanas. Chéjov es conocido por obras como Tío Vania\, La gaviota\, El jardín de los cerezos y Las tres hermanas\, donde explora con sutileza los matices del alma humana.[/vc_column_text][/vc_column][/vc_row][vc_row][vc_column][vc_separator][/vc_column][/vc_row][vc_row][vc_column width=”1/4″][vc_single_image image=”4078″ img_size=”medium” css=””][/vc_column][vc_column width=”1/4″][vc_column_text css=””]Luis Rodríguez Leal – Autor y actor\n\nDramaturgo\, director\, actor y cineasta. Ha escrito 12 obras de teatro presentadas en recintos como el INBA\, la UNAM\, el CENART y el Centro Cultural Helénico. Actualmente trabaja en el guión de largometraje Sin Lugar en el Mundo y dirige el cortometraje Sangre. Como actor\, ha participado en el multipremiado cortometraje La Mina de Oro y da vida en escena al protagonista de NO FUMAR\, aportando una interpretación cargada de ironía\, vulnerabilidad y profundidad.[/vc_column_text][/vc_column][vc_column width=”1/4″][vc_single_image image=”4075″ img_size=”medium” css=””][/vc_column][vc_column width=”1/4″][vc_column_text css=””]Susana Ugalde Alcántara – Actriz\n\nEgresada del CUT-UNAM y del Centro de Investigación Coreográfica del INBA. Actriz\, bailarina\, directora y creadora escénica. Ha trabajado con reconocidos directores como Luis de Tavira\, Enrique Singer\, José Caballero y Abraham Oceransky. Participa activamente en el grupo Teatro al Vacío\, y su trayectoria incluye obras como Cabaret Dragón\, Isadora\, la Danza del Espíritu\, y Los Hombres de Maíz. Su versatilidad la ha llevado a escenarios nacionales e internacionales.[/vc_column_text][/vc_column][/vc_row][vc_row][vc_column][vc_separator][vc_column_text css=””]¡Te esperamos!\n\nEsta lectura dramatizada inaugura la serie Teatro en Atril\, un nuevo ciclo escénico presentado por el CEX que invita al público a descubrir textos contemporáneos en un formato íntimo y provocador.[/vc_column_text][/vc_column][/vc_row]
URL:https://cex.mx/cevent/teatro-en-atril/
LOCATION:CEX\, Av. Revolución 1291\, CDMX\, CDMX\, 01010\, Mexico
CATEGORIES:Teatro
ATTACH;FMTTYPE=image/jpeg:https://cex.mx/wp-content/uploads/2025/06/teatro-en-atril.jpg
ORGANIZER;CN="Cex":MAILTO:cex@ibero.mx
END:VEVENT
BEGIN:VEVENT
DTSTART;TZID=America/Mexico_City:20240516T200000
DTEND;TZID=America/Mexico_City:20240614T220000
DTSTAMP:20260422T140803
CREATED:20250609T172916Z
LAST-MODIFIED:20250609T172916Z
UID:10001570-1715889600-1718402400@cex.mx
SUMMARY:Perennial
DESCRIPTION:[vc_row][vc_column][vc_empty_space height=”50px”][vc_column_text] \nFunciones jueves y viernes a las 20:00 hrs\nboletos en taquilla o en\nEVENTBRITE \n\n    Eventbrite\n    [/vc_column_text][vc_empty_space height=”50px”][vc_text_separator title=”Perennial” i_icon_fontawesome=”fas fa-dragon” i_color=”mulled_wine” add_icon=”true”][vc_column_text] \nAquí un homenaje al cuerpo en todas sus formas\, etapas y alcances. Una reflexión sobre el placer\, la muerte y la enfermedad; un mapeo metafórico de la impermanencia y\, a la vez\, un abordaje del cuerpo desde su ser matérico y orgánico que\, como tal\, muta\, se pudre y desintegra en su diálogo con el tiempo. \n[/vc_column_text][vc_empty_space height=”50px”][/vc_column][/vc_row][vc_row css=”.vc_custom_1715713162079{background-image: url(https://cex.mx/wp-content/uploads/2024/05/FY7A7809-Editar-scaled.jpg?id=3442) !important;}”][vc_column][vc_column_text] \n\nPerennial es una cartografía hecha con pedazos de mí\, de la autora yo\, de la artista ella\, de la mujer aquella. Pedazos de nosotras\, de nosotras todas\, de la mujer que fuimos\, de la que todavía somos y de la que juntas\, en este trabajo colectivo de reconstrucción\, podemos y queremos ser. Es una obra que nació autorreferencial\, construida desde la enfermedad\, el cansancio\, y en estrecha cercanía con la muerte.\nEncuentra inspiración y resonancia en los textos de Anne Boyer\, autora norteamericana que reflexiona sobre su propia travesía por un proceso de enfermedad grave. Más adelante\, a través de encuentros con las visiones y energía de otras mujeres\, la obra se vuelve posible y cobra vida. Aquí estamos nosotras para hablar de la hiperproductividad\, la autoexplotación\, el agotamiento. Porque a través de los pedazos de todas conseguimos reconstruirnos juntas\, con un cansancio absoluto y mucha\, muchísima fuerza.\n\n[/vc_column_text][vc_separator][vc_empty_space height=”50px”][/vc_column][/vc_row][vc_row][vc_column width=”1/3″][vc_single_image image=”3444″ img_size=”medium” alignment=”center” style=”vc_box_shadow_3d”][/vc_column][vc_column width=”1/3″][vc_column_text] \nJADE ZERóN\nArtista multidisciplinar dedicada desde hace 20 años a la creación\, experimentación y fusión escénica. Licenciada en Bellas Artes por la Universidad de Barcelona; se forma las artes escénicas de manera independiente\, en escuelas\, talleres y laboratorios de España\, Bélgica\, Francia\, India\, Italia\, Brasil y México. Directora artistica y coach de creatividad de compañías y artistas independientes\, co-fundadora de la plataforma creativa Zarawato Bus. \nNETTY RADVANYI\nArtista francesa de nuevo circo\, directora cineasta\, productora y gestora cultural. Estudió en la Escuela Nacional de Circo CNAC\, Le Fresnoy\nEstudio Nacional de Artes Contemporáneas y el Instituto de Estudios Políticos Science Po Paris. Ha dirigido 6 espectáculos y realizado 2 películas por las que ha recibido diversas becas y premios. Actualmente reside en México\, donde ha creado la Cie Ohtli Prod A.C. y continúa su trabajo artístico y de gestión en el circo\, el teatro y el cine entre los dos continentes.[/vc_column_text][/vc_column][vc_column width=”1/3″][vc_single_image image=”3442″ img_size=”medium” alignment=”center” style=”vc_box_shadow_3d”][/vc_column][/vc_row][vc_row][vc_column width=”1/3″][vc_single_image image=”3443″ img_size=”large” alignment=”center” style=”vc_box_shadow_3d” onclick=”link_image”][/vc_column][vc_column width=”1/3″][vc_single_image image=”3445″ img_size=”large” alignment=”center” style=”vc_box_shadow_3d” onclick=”link_image”][/vc_column][vc_column width=”1/3″][vc_single_image image=”3447″ img_size=”large” alignment=”center” style=”vc_box_shadow_3d” onclick=”link_image”][/vc_column][/vc_row][vc_row][vc_column][vc_empty_space height=”50px”][vc_column_text] \nUn espectáculo ideado e interpretado por Jade Zerón Laboratorio y puesta en escena: Netty Radvanyi Dramaturgia y arte: Jade Zerón Y Netty Radvanyi. Asistente de dirección\, producción y vestuario: Rosario Hercz Música original: Liz Ruvalcaba Diseño de vestuario: Ana María Lemos Acompañamiento artístico: Paola Pretelli. CEX: Dirección General Juan Carlos Henríquez Dirección escénica: Lorena Abrahamsohn Iluminación: Ángel Aburto Imagen: Alfonso Escudero. Administración: Daniel Dávila. Montaje: Antonio Méndez\, Diego Derramadero. \n[/vc_column_text][vc_empty_space height=”50px”][vc_empty_space height=”50px”][/vc_column][/vc_row]
URL:https://cex.mx/cevent/perennial/
LOCATION:CEX\, Av. Revolución 1291\, CDMX\, CDMX\, 01010\, Mexico
CATEGORIES:Teatro
ATTACH;FMTTYPE=image/png:https://cex.mx/wp-content/uploads/2024/05/Mesa-de-trabajo-1@2x.png
ORGANIZER;CN="Cex":MAILTO:cex@ibero.mx
END:VEVENT
BEGIN:VEVENT
DTSTART;TZID=America/Mexico_City:20230607T160000
DTEND;TZID=America/Mexico_City:20230607T180000
DTSTAMP:20260422T140803
CREATED:20250609T172945Z
LAST-MODIFIED:20250609T172945Z
UID:10001560-1686153600-1686160800@cex.mx
SUMMARY:José Manuel Jiménez
DESCRIPTION:Fotoperiodismo: \ndel archivo a la curaduría\nte invita a la charla con: \nJosé Manuel Jiménez\nSoy historiador y mi formación me ha llevado a colaborar  en archivos fotográficos como en el de la fotógrafa Mariana Yampolsky\, Museo Archivo de la Fotografía y Archivo General de la Nación. Así mismo he realizado  investigaciones sobre fotoperiodismo mexicano concretamente con series de los Hermanos Mayo para la licenciatura y uns  caso monográfico de la fotorreportera Ángeles Torrejón para maestría. Actualmente trabajo como cooeditor fotográfico del seminario Proceso donde eventualmente cubro información y realizo una investigación para el doctorado sobre la nota roja en México durante la década de 1990.
URL:https://cex.mx/cevent/jose-manuel-jimenez/
LOCATION:CEX\, Av. Revolución 1291\, CDMX\, CDMX\, 01010\, Mexico
CATEGORIES:Conferencia
ATTACH;FMTTYPE=image/png:https://cex.mx/wp-content/uploads/2023/06/Mesa-de-trabajo-1-1.png
ORGANIZER;CN="Cex":MAILTO:cex@ibero.mx
END:VEVENT
BEGIN:VEVENT
DTSTART;TZID=America/Mexico_City:20230606T160000
DTEND;TZID=America/Mexico_City:20230606T180000
DTSTAMP:20260422T140803
CREATED:20250609T172916Z
LAST-MODIFIED:20250609T172916Z
UID:10001559-1686067200-1686074400@cex.mx
SUMMARY:Lucía Flores
DESCRIPTION:Fotoperiodismo: \ndel archivo a la curaduría\nte invita a la charla con: \nLucía Flores\nLucía Flores fundó y dirige la Agencia Obturador MX\, es fotoperiodista en el periódico El Financiero y colaboradora del portal A dónde Van los desaparecidos. Es egresada de la carrera de Ciencias de la Comunicación por la UNAM\, desde hace más de 8 años cubre temas de derechos humanos y política. \nHa publicado en medios como El Universal\, Reforma\, Washington Post\, la agencia Xinhua\, Pie de Página\, entre otros. Forma parte de la sexta generación de la Red de Periodismo Latam\, fue seleccionada para la Revisión de Portafolios 2022″ | FIFMX | Centro de la Imagen\, en 2020 y 2022 fue acreedora de la Mención Honorífica en el Premio Rostros de la Discriminación en la categoría fotografía\, fue seleccionada para cursar la Beca Prende en la Universidad Iberoamericana en 2020\, la Beca Mike O’Connor en 2018 y el MashUp de Periodismo Bengala-ArcaLab en 2015. \nHa expuesto en las rejas de Chapultepec en 2019 en la Exposición Fotográfica de Mujeres Fotoperiodistas: LA mirada\, LA cámara\, LA luz\, LA fotografía Desde Nosotras\, en 2018 fue seleccionada para exponer en la Primer Bienal de Fotoperiodismo en Sinaloa\, en noviembre de 2020 participó en la exposición colectiva Miradas Artísticas sobre la Pandemia\, participó en la exposición colectiva de mujeres “Homenaje a Marabunta”. Ha formado parte del equipo nominado al Premio Gabo 2022 en categoría cobertura. Es coautora de la investigación periodística: Así fue la entrega ilegal de datos genéticos de 49 mil desaparecidos.
URL:https://cex.mx/cevent/lucia-flores/
LOCATION:CEX\, Av. Revolución 1291\, CDMX\, CDMX\, 01010\, Mexico
CATEGORIES:Conferencia,Taller
ATTACH;FMTTYPE=image/png:https://cex.mx/wp-content/uploads/2023/06/Mesa-de-trabajo-1.png
ORGANIZER;CN="Cex":MAILTO:cex@ibero.mx
END:VEVENT
BEGIN:VEVENT
DTSTART;TZID=America/Mexico_City:20221117T200000
DTEND;TZID=America/Mexico_City:20221117T210000
DTSTAMP:20260422T140803
CREATED:20250609T172958Z
LAST-MODIFIED:20250609T172958Z
UID:10001561-1668715200-1668718800@cex.mx
SUMMARY:Maroma 2 Movilidad Tania Gómez
DESCRIPTION:El día con sus afanes y perplejidades ha culminado y la noche cae sobre nosotros. La noche debería ser un tiempo de paz y tranquilidad\, un tiempo de descanso y sosiego. Necesitamos una historia relajante que disipe los pensamientos perturbadores del día\, que descanse nuestra atribulada mente y afloje nuestros espíritus crispados. Pero ¿qué clase de historia hemos de escuchar? Ah\, deberá ser una historia conocida\, una historia que es tan pero tan vieja y sin embargo tan pero tan nueva. \n  \nTania Denazir Gómez Ortega \nArtista Circense que se desempeña como contorsionista\, equilibrista y aerelista. En 2013 cursó equilibrio\, acrobacia y contorsión en la Beijing International Arts School of China\, país en el que tuvo presentaciones en diversas provincias. Trabaja con grupos escénicos mexicanos. Asimismo\, se presenta en eventos culturales\, académicos y empresariales de la CDMX y la Riviera Maya. \nTaller impartido por: Diego Martínez Soto Licenciado en Historia por la Universidad Autónoma de México\, especializado en Historia Mundial contemporánea\, realizó estudios internacionales en Trinity College en Dublín Irlanda. Es Maestro en Comunicación por la Universidad Iberoamericana\, enfocado en el estudio de los Imaginarios Sociales. Este año publicó un capítulo en la colección de libros emitida por la Red Iberoamericana de Investigación en Imaginarios y Representaciones. \nUna producción del Centro de Exploración y Pensamiento Crítico CEX Ejecutante: Tania Denazir Gómez Ortega Intervención: Juan Carlos Henríquez Escena: Lorena Abrahamsohn Tallerista: Diego Martínez Soto Imagen y fotografía: Alfonso Escudero Operación:Daniel Dávila Escenotécnia: Ángel Aburto Asistente de operaciones: Diego Derramadero \n\n		\n		\n			\n				\n			\n			\n				\n			\n			\n				\n			\n			\n				\n			\n			\n				\n			\n			\n				\n			\n			\n				\n			\n			\n				\n			\n			\n				\n			\n		\n  \n[arve url=”https://youtu.be/kIZxUuXDEL0″ /]
URL:https://cex.mx/cevent/maroma-2-movilidad-tania-gomez/
LOCATION:CEX\, Av. Revolución 1291\, CDMX\, CDMX\, 01010\, Mexico
CATEGORIES:Intervención,Taller
ATTACH;FMTTYPE=image/jpeg:https://cex.mx/wp-content/uploads/2023/06/tania.jpg
ORGANIZER;CN="Cex":MAILTO:cex@ibero.mx
END:VEVENT
END:VCALENDAR