BEGIN:VCALENDAR
VERSION:2.0
PRODID:-//Centro de Exploración y Pensamiento Crítico - ECPv6.15.20//NONSGML v1.0//EN
CALSCALE:GREGORIAN
METHOD:PUBLISH
X-ORIGINAL-URL:https://cex.mx
X-WR-CALDESC:Eventos para Centro de Exploración y Pensamiento Crítico
REFRESH-INTERVAL;VALUE=DURATION:PT1H
X-Robots-Tag:noindex
X-PUBLISHED-TTL:PT1H
BEGIN:VTIMEZONE
TZID:America/Mexico_City
BEGIN:DAYLIGHT
TZOFFSETFROM:-0600
TZOFFSETTO:-0500
TZNAME:CDT
DTSTART:20210404T080000
END:DAYLIGHT
BEGIN:STANDARD
TZOFFSETFROM:-0500
TZOFFSETTO:-0600
TZNAME:CST
DTSTART:20211031T070000
END:STANDARD
BEGIN:DAYLIGHT
TZOFFSETFROM:-0600
TZOFFSETTO:-0500
TZNAME:CDT
DTSTART:20220403T080000
END:DAYLIGHT
BEGIN:STANDARD
TZOFFSETFROM:-0500
TZOFFSETTO:-0600
TZNAME:CST
DTSTART:20221030T070000
END:STANDARD
END:VTIMEZONE
BEGIN:VEVENT
DTSTART;TZID=America/Mexico_City:20220811T200000
DTEND;TZID=America/Mexico_City:20220811T210000
DTSTAMP:20260425T171252
CREATED:20250609T172946Z
LAST-MODIFIED:20250609T172946Z
UID:10001549-1660248000-1660251600@cex.mx
SUMMARY:Maroma - Capacitismo
DESCRIPTION:[vc_row full_width=”stretch_row” gap=”5″ equal_height=”yes”][vc_column][vc_column_text]\nDavid Ángel Orozco Cervantes\n(Oaxaca – 1982)\nArtista escénico con estudios en Fotografía\, y en Artes Circenses\, especializado en humor y equilibrio en cable tenso. En 2010 conoce el maravilloso mundo del escenario y comienza a crear actos de comedia\, equilibrio y teatro físico y así ha participado en festivales\, encuentros y creaciones artísticas en países como Argentina\, Colombia\, Estados Unidos\, Chile y México. Ha trabajado con las compañías Circonciente y Pimpolina Clown\, actualmente es parte de la Cía. Mermejita Circus. Impulsor cultural en el proyecto Casa Margaritas desde 2015. En 2016 funda la Compañía Circo Plantae\, la cual le ha permitido encontrar una identidad e independencia escénica\, lo que ha evolucionado su desarrollo artístico y humano. Ha impartido clases de Cable Tenso y Expresión Corporal en Ultradanza y Circo Zephyr de la Ciudad de México\, La Bodega Fuoco di Strada en Guadalajara Jalisco\, La Circoteca en Monterrey Nuevo León\, y Aloft Circus Arts de la ciudad de Chicago\, entre otros; también ha trabajado con los niños y niñas de diferentes comunidades Indígenas y en situación de riesgo social. Amante de la Naturaleza e impulsor de la vida sana en comunidad. Su trabajo se ha encaminado en la búsqueda del movimiento y desarrollo del lenguaje corporal como generador de la risa\, mezclándolo con disciplinas circenses\, teatro físico y danza Butoh. Beneficiario del Programa Creadores Escénicos 2020 del Sistema de apoyos a la creación y a proyectos culturales (FONCA)\n\n \nOscar Rodriguez Pérez\n(Estado de México – 1976)\nLicenciado en Economía por la FES Aragón de la UNAM\, profesional del servicio a comensales\, masoterapeuta certificado\, esposo y padre de un pequeño de 5 años. Diagnosticado con retinosis pigmentaria\, un padecimiento genético que posee desde su nacimiento\, Oscar ha logrado su independencia y movilidad sin asistencia de alguna otra persona. En el año 2013 ingresa al Comité Internacional Pro Ciegos cursando un programa de rehabilitación para personas ciegas y débiles visuales\, el cual certifica su adaptabilidad en diversos temas como las actividades de la vida diaria\, computación\, orientación y movilidad. En este mismo lugar concluyó también de manera satisfactoria una Certificación en masoterapia. Posteriormente ingresa a la Fundación Turquois – Servir Bien México\, escuela que profesionaliza el servicio a comensales. En el año 2015 se desempeña como mesero en el restaurante Le Cordon Bleu participando en atención a comensales y en diversas cenas sensoriales. Actualmente debido a la pandemia y sumado a su condición de discapacidad se encuentra desempleado\, poniendo en práctica su experiencia como masoterapeuta en casa.\nZARÍA ABREU FLORES\nFemi disca\, enferma crónica\, prieta oaxaqueña\, neurodivergente y autista. Escritora\, poeta\, guionista y dramaturga con más de 30 años experiencia en series\, proyectos multidisciplinarios\, escénicos\, literarios y audiovisuales. Creadora multidisciplinaria especializada en temas como: neurodiversidad\, diversidad funcional\, género\, enfermedad crónica y labores de cuidado. Miembro de la banda Rivothrillers\, grupo performático que aborda por medio de poesía y diseño sonoro los temas mencionados. Se dedica también a dar talleres y conversatorios de escritura a (y junto con) personas con discapacidades psicosociales y físicas\, corporalidades diversas\, enfermedades crónicas y mujeres mayores de 70 años\, todo desde una perspectiva feminista y de la discapacidad como resistencia. Ha recibido varios reconocimientos nacionales e internacionales y ha sido publicada en varios países. Socia fundadora de Room service que ha participado de diversos proyectos para plataformas con Netflix\, Fox\, Univisón; Vix\, Sony\, entre otros.\n\n[/vc_column_text][/vc_column][/vc_row][vc_row][vc_column][vc_column_text][embedyt] https://www.youtube.com/watch?v=sMkObOO4YAI[/embedyt][/vc_column_text][/vc_column][/vc_row][vc_row][vc_column width=”1/2″][vc_gallery interval=”3″ images=”1860\,1861\,1862\,1863\,1864″ img_size=”medium”][/vc_column][vc_column width=”1/2″][/vc_column][/vc_row][vc_row][vc_column][vc_separator][/vc_column][/vc_row]
URL:https://cex.mx/cevent/maroma-capacitismo/
LOCATION:CEX\, Av. Revolución 1291\, CDMX\, CDMX\, 01010\, Mexico
CATEGORIES:Intervención,Performance
ATTACH;FMTTYPE=image/png:https://cex.mx/wp-content/uploads/2022/08/programa-maroma-3.png
ORGANIZER;CN="Cex":MAILTO:cex@ibero.mx
END:VEVENT
BEGIN:VEVENT
DTSTART;TZID=America/Mexico_City:20220825T200000
DTEND;TZID=America/Mexico_City:20220825T210000
DTSTAMP:20260425T171252
CREATED:20250609T172946Z
LAST-MODIFIED:20250609T172946Z
UID:10001550-1661457600-1661461200@cex.mx
SUMMARY:Maroma -Discriminación
DESCRIPTION:[vc_row full_width=”stretch_row” gap=”5″ equal_height=”yes”][vc_column][vc_column_text] \n\n \nLa discriminación… un marasmo\, un ente con demasiados filos\, demasiados nombres. En donde aparece una diferencia\, brotan cientos de formas de menoscabar\, señalar\, juzgar y lastimar. ¿Por qué? ¿A que fuerzas sirve la búsqueda de una homogeneidad -imposible\, por cierto-? Salgamos\, para empezar\, de ese lugar\, rompamos el equilibrio que nos mantiene aquí. Disloquemos la mirada\, el pensamiento y la acción. \n\nGerardo González\n(CDMX- 1996)\nEspecialista en artes circenses contemporáneas\, particularmente en equilibrio de manos y contorsión. También ha estudiado cabaret y actuación. Acreedor a la beca de jóvenes en formación en artes circenses (FONCA) en su edición 2019. \nSe ha presentado en escenarios emblemáticos de distintas ciudades de México\, colaborado con distintas compañías e impartido clases a personas y grupos de distintas edades. Actualmente pertenece al elenco de la obra “Nautilus” con la compañía Cirko de Mente\, Esc (afandra) con la compañía danza visual y las obras “Biografía pintada de un Circo”\, “Sueños de Azotea” y “Para-caidas” con la compañía Tránsito 5. \n  \nZARÍA ABREU FLORES\nFemi disca\, enferma crónica\, prieta oaxaqueña\, neurodivergente y autista.   Escritora\, poeta\, guionista y dramaturga con más de 30 años experiencia en series\, proyectos  multidisciplinarios\, escénicos\, literarios y audiovisuales. Creadora multidisciplinaria especializada en temas como: neurodiversidad\, diversidad funcional\, género\, enfermedad crónica y labores de cuidado. Miembro de la banda Rivothrillers\, grupo performático que aborda por medio de poesía y diseño sonoro los temas mencionados. Se dedica también a dar talleres y conversatorios de escritura a (y junto con) personas con discapacidades psicosociales y físicas\, corporalidades diversas\, enfermedades crónicas y mujeres mayores de 70 años\, todo desde una perspectiva feminista y de la discapacidad como resistencia. Ha recibido varios reconocimientos nacionales e internacionales y ha sido publicada en varios países. Socia fundadora de Room service que ha participado de diversos proyectos para plataformas con Netflix\, Fox\, Univisón; Vix\, Sony\, entre otros.[/vc_column_text][/vc_column][/vc_row][vc_row][vc_column][vc_separator][/vc_column][/vc_row][vc_row][vc_column][vc_gallery interval=”3″ images=”1869\,1870\,1871\,1872\,1873″ img_size=”medium”][/vc_column][/vc_row]
URL:https://cex.mx/cevent/maroma-discriminacion/
LOCATION:CEX\, Av. Revolución 1291\, CDMX\, CDMX\, 01010\, Mexico
CATEGORIES:Intervención,Performance
ATTACH;FMTTYPE=image/png:https://cex.mx/wp-content/uploads/2022/08/Sin-titulo-2.png
ORGANIZER;CN="Cex":MAILTO:cex@ibero.mx
END:VEVENT
BEGIN:VEVENT
DTSTART;TZID=America/Mexico_City:20220908T200000
DTEND;TZID=America/Mexico_City:20220908T210000
DTSTAMP:20260425T171252
CREATED:20250609T172946Z
LAST-MODIFIED:20250609T172946Z
UID:10001551-1662667200-1662670800@cex.mx
SUMMARY:Maroma 2 - Migración
DESCRIPTION:[vc_row][vc_column width=”1/2″][vc_column_text] \nIRSE.\nLlegar a otro lado y esperar a que el alma alcance al cuerpo. Irse. Buscar caminos de ida y dejar miguitas de pan para saber cómo regresar. Irse. Aprender a dar vueltas\, habitar el mareo y esa sensación en la panza. Será un círculo\, acaso. El final de una línea que de pronto encontró a otra. Un círculo este camino. Y ahora desde este cuerpo\, desde este presente perpetuo\, me muevo hacia ese lugar mío\, que me pertenece y desde el cual sonrío\, nos miro y nos encuentro. \n[/vc_column_text][/vc_column][vc_column width=”1/2″][vc_single_image image=”1883″ img_size=”medium”][vc_single_image image=”1882″ img_size=”Medium”][/vc_column][/vc_row][vc_row full_width=”stretch_row” gap=”5″ equal_height=”yes”][vc_column][vc_row_inner][vc_column_inner width=”1/2″][vc_video link=”https://youtube.com/shorts/jbgEFStds7o?feature=share” el_width=”50″][/vc_column_inner][vc_column_inner width=”1/2″][vc_column_text][/vc_column_text][vc_empty_space][/vc_column_inner][/vc_row_inner][vc_column_text] \nAndrea Salas Sarabia\nInicia su entrenamiento en gimnasia artística a nivel competitivo en el gimnasio Ludskanov a los 10 años de edad\, posteriormente en el Comité Olímpico Mexicano. Participó en competencias a nivel estatal\, regional\, nacional e internacional. Después de la gimnasia empezó a entrenar diversas disciplinas como parkour\, capoeira y danza (contemporánea y urbana). \nEn el 2013 comienza a practicar artes circenses (danza aérea\, equilibrio en parado de manos y acrobacia en piso) en Cirko de Mente con el profesor Vladimir Lissovsky y René Badell. En el 2019 obtiene la beca del FONCA en el programa de Creadores Escénicos en Artes Circenses con la especialidad de acrobacia. Actualmente se encuentra impartiendo talleres de acrodanza y continúa con sus entrenamientos de acrobacia y otras especialidades de arte circense como rueda Cyr.[/vc_column_text][vc_row_inner][vc_column_inner][vc_empty_space][/vc_column_inner][/vc_row_inner][vc_row_inner][vc_column_inner width=”1/2″][vc_column_text]Taller impartido por: \nEstela Martínez\nMigrante mexicana \n  \nUna producción del Centro de Exploración y Pensamiento Crítico CEX \n\nEjecutante: Andrea Salas\nIntervención: Juan Carlos Henríquez\nEscena: Lorena Abrahamsohn\nTallerista: Estela Martínez\nImagen y fotografía: Alfonso Escudero\nOperación:Daniel Dávila\nEscenotécnia: Ángel Aburto\nAsistente de operaciones: Diego Derramadero\n\n[/vc_column_text][/vc_column_inner][vc_column_inner width=”1/2″][vc_column_text][/vc_column_text][/vc_column_inner][/vc_row_inner][vc_row_inner][vc_column_inner][vc_empty_space][/vc_column_inner][/vc_row_inner][vc_column_text] \n[/vc_column_text][vc_row_inner][vc_column_inner][vc_images_carousel images=”1884\,1885\,1886\,1887\,1888\,1889″ img_size=”large” slides_per_view=”3″ autoplay=”yes”][/vc_column_inner][/vc_row_inner][vc_row_inner][vc_column_inner][vc_empty_space][/vc_column_inner][/vc_row_inner][vc_row_inner][vc_column_inner][vc_video link=”https://youtu.be/wMvx7Bzaofw” align=”center”][vc_column_text][/vc_column_text][vc_empty_space][/vc_column_inner][/vc_row_inner][/vc_column][/vc_row]
URL:https://cex.mx/cevent/maroma-2-migracion/
LOCATION:CEX\, Av. Revolución 1291\, CDMX\, CDMX\, 01010\, Mexico
CATEGORIES:Intervención,Música,Taller
ATTACH;FMTTYPE=image/jpeg:https://cex.mx/wp-content/uploads/2022/10/maroma.jpg
ORGANIZER;CN="Cex":MAILTO:cex@ibero.mx
END:VEVENT
BEGIN:VEVENT
DTSTART;TZID=America/Mexico_City:20221117T200000
DTEND;TZID=America/Mexico_City:20221117T210000
DTSTAMP:20260425T171252
CREATED:20250609T172958Z
LAST-MODIFIED:20250609T172958Z
UID:10001561-1668715200-1668718800@cex.mx
SUMMARY:Maroma 2 Movilidad Tania Gómez
DESCRIPTION:El día con sus afanes y perplejidades ha culminado y la noche cae sobre nosotros. La noche debería ser un tiempo de paz y tranquilidad\, un tiempo de descanso y sosiego. Necesitamos una historia relajante que disipe los pensamientos perturbadores del día\, que descanse nuestra atribulada mente y afloje nuestros espíritus crispados. Pero ¿qué clase de historia hemos de escuchar? Ah\, deberá ser una historia conocida\, una historia que es tan pero tan vieja y sin embargo tan pero tan nueva. \n  \nTania Denazir Gómez Ortega \nArtista Circense que se desempeña como contorsionista\, equilibrista y aerelista. En 2013 cursó equilibrio\, acrobacia y contorsión en la Beijing International Arts School of China\, país en el que tuvo presentaciones en diversas provincias. Trabaja con grupos escénicos mexicanos. Asimismo\, se presenta en eventos culturales\, académicos y empresariales de la CDMX y la Riviera Maya. \nTaller impartido por: Diego Martínez Soto Licenciado en Historia por la Universidad Autónoma de México\, especializado en Historia Mundial contemporánea\, realizó estudios internacionales en Trinity College en Dublín Irlanda. Es Maestro en Comunicación por la Universidad Iberoamericana\, enfocado en el estudio de los Imaginarios Sociales. Este año publicó un capítulo en la colección de libros emitida por la Red Iberoamericana de Investigación en Imaginarios y Representaciones. \nUna producción del Centro de Exploración y Pensamiento Crítico CEX Ejecutante: Tania Denazir Gómez Ortega Intervención: Juan Carlos Henríquez Escena: Lorena Abrahamsohn Tallerista: Diego Martínez Soto Imagen y fotografía: Alfonso Escudero Operación:Daniel Dávila Escenotécnia: Ángel Aburto Asistente de operaciones: Diego Derramadero \n\n		\n		\n			\n				\n			\n			\n				\n			\n			\n				\n			\n			\n				\n			\n			\n				\n			\n			\n				\n			\n			\n				\n			\n			\n				\n			\n			\n				\n			\n		\n  \n[arve url=”https://youtu.be/kIZxUuXDEL0″ /]
URL:https://cex.mx/cevent/maroma-2-movilidad-tania-gomez/
LOCATION:CEX\, Av. Revolución 1291\, CDMX\, CDMX\, 01010\, Mexico
CATEGORIES:Intervención,Taller
ATTACH;FMTTYPE=image/jpeg:https://cex.mx/wp-content/uploads/2023/06/tania.jpg
ORGANIZER;CN="Cex":MAILTO:cex@ibero.mx
END:VEVENT
END:VCALENDAR