BEGIN:VCALENDAR
VERSION:2.0
PRODID:-//Centro de Exploración y Pensamiento Crítico - ECPv6.15.15//NONSGML v1.0//EN
CALSCALE:GREGORIAN
METHOD:PUBLISH
X-ORIGINAL-URL:https://cex.mx
X-WR-CALDESC:Eventos para Centro de Exploración y Pensamiento Crítico
REFRESH-INTERVAL;VALUE=DURATION:PT1H
X-Robots-Tag:noindex
X-PUBLISHED-TTL:PT1H
BEGIN:VTIMEZONE
TZID:America/Mexico_City
BEGIN:DAYLIGHT
TZOFFSETFROM:-0600
TZOFFSETTO:-0500
TZNAME:CDT
DTSTART:20200405T080000
END:DAYLIGHT
BEGIN:STANDARD
TZOFFSETFROM:-0500
TZOFFSETTO:-0600
TZNAME:CST
DTSTART:20201025T070000
END:STANDARD
BEGIN:DAYLIGHT
TZOFFSETFROM:-0600
TZOFFSETTO:-0500
TZNAME:CDT
DTSTART:20210404T080000
END:DAYLIGHT
BEGIN:STANDARD
TZOFFSETFROM:-0500
TZOFFSETTO:-0600
TZNAME:CST
DTSTART:20211031T070000
END:STANDARD
BEGIN:DAYLIGHT
TZOFFSETFROM:-0600
TZOFFSETTO:-0500
TZNAME:CDT
DTSTART:20220403T080000
END:DAYLIGHT
BEGIN:STANDARD
TZOFFSETFROM:-0500
TZOFFSETTO:-0600
TZNAME:CST
DTSTART:20221030T070000
END:STANDARD
END:VTIMEZONE
BEGIN:VEVENT
DTSTART;TZID=America/Mexico_City:20250410T193000
DTEND;TZID=America/Mexico_City:20250410T210000
DTSTAMP:20260416T215228
CREATED:20250609T172915Z
LAST-MODIFIED:20250609T172915Z
UID:10001597-1744313400-1744318800@cex.mx
SUMMARY:Seguir el rastro del mal
DESCRIPTION:La novela negra\, el reflejo de las sombras de la realidad y la condición humana.Cuatro sesiones presenciales para leer\, debatir y repensar uno de los géneros literarios más cuestionados y a la vez\, más exitosos.Jueves del 20 de marzo al 10 de abril 19:30 a 21:00 horas\, en el CEX. \n\n\n\nIgnacio Guzmán \n\n\n\n\n\n\n\nIgnacio Guzmán\, escritor y guionista con más de 30 años de trayectoria. Interesado en todas las formas y usos de la palabra\, especialmente en la palabra relacional. Cercano a las artes escénicas\, Nacho imparte talleres de poesía y literatura\, enfocados a su escenificación y o “acuerpamiento” de las ideas hechas palabra \n\n\n\nCuota de recuperación por las 4 sesiones: $1\,200Becas disponibles.Informes\, becas e inscripciones en cex@ibero.mx \n\n\n\n\n$\n\n\n\n1200\n\n\n\n.00
URL:https://cex.mx/cevent/seguir-el-rastro-del-mal/2025-04-10/
LOCATION:CEX\, Av. Revolución 1291\, CDMX\, CDMX\, 01010\, Mexico
CATEGORIES:Taller
ATTACH;FMTTYPE=image/jpeg:https://cex.mx/wp-content/uploads/2025/03/seguir-el-rastro-del-mal.jpg
ORGANIZER;CN="Cex":MAILTO:cex@ibero.mx
END:VEVENT
BEGIN:VEVENT
DTSTART;TZID=America/Mexico_City:20250403T193000
DTEND;TZID=America/Mexico_City:20250403T210000
DTSTAMP:20260416T215228
CREATED:20250609T172915Z
LAST-MODIFIED:20250609T172915Z
UID:10001596-1743708600-1743714000@cex.mx
SUMMARY:Seguir el rastro del mal
DESCRIPTION:La novela negra\, el reflejo de las sombras de la realidad y la condición humana.Cuatro sesiones presenciales para leer\, debatir y repensar uno de los géneros literarios más cuestionados y a la vez\, más exitosos.Jueves del 20 de marzo al 10 de abril 19:30 a 21:00 horas\, en el CEX. \n\n\n\nIgnacio Guzmán \n\n\n\n\n\n\n\nIgnacio Guzmán\, escritor y guionista con más de 30 años de trayectoria. Interesado en todas las formas y usos de la palabra\, especialmente en la palabra relacional. Cercano a las artes escénicas\, Nacho imparte talleres de poesía y literatura\, enfocados a su escenificación y o “acuerpamiento” de las ideas hechas palabra \n\n\n\nCuota de recuperación por las 4 sesiones: $1\,200Becas disponibles.Informes\, becas e inscripciones en cex@ibero.mx \n\n\n\n\n$\n\n\n\n1200\n\n\n\n.00
URL:https://cex.mx/cevent/seguir-el-rastro-del-mal/2025-04-03/
LOCATION:CEX\, Av. Revolución 1291\, CDMX\, CDMX\, 01010\, Mexico
CATEGORIES:Taller
ATTACH;FMTTYPE=image/jpeg:https://cex.mx/wp-content/uploads/2025/03/seguir-el-rastro-del-mal.jpg
ORGANIZER;CN="Cex":MAILTO:cex@ibero.mx
END:VEVENT
BEGIN:VEVENT
DTSTART;TZID=America/Mexico_City:20250327T193000
DTEND;TZID=America/Mexico_City:20250327T210000
DTSTAMP:20260416T215228
CREATED:20250609T172915Z
LAST-MODIFIED:20250609T172915Z
UID:10001595-1743103800-1743109200@cex.mx
SUMMARY:Seguir el rastro del mal
DESCRIPTION:La novela negra\, el reflejo de las sombras de la realidad y la condición humana.Cuatro sesiones presenciales para leer\, debatir y repensar uno de los géneros literarios más cuestionados y a la vez\, más exitosos.Jueves del 20 de marzo al 10 de abril 19:30 a 21:00 horas\, en el CEX. \n\n\n\nIgnacio Guzmán \n\n\n\n\n\n\n\nIgnacio Guzmán\, escritor y guionista con más de 30 años de trayectoria. Interesado en todas las formas y usos de la palabra\, especialmente en la palabra relacional. Cercano a las artes escénicas\, Nacho imparte talleres de poesía y literatura\, enfocados a su escenificación y o “acuerpamiento” de las ideas hechas palabra \n\n\n\nCuota de recuperación por las 4 sesiones: $1\,200Becas disponibles.Informes\, becas e inscripciones en cex@ibero.mx \n\n\n\n\n$\n\n\n\n1200\n\n\n\n.00
URL:https://cex.mx/cevent/seguir-el-rastro-del-mal/2025-03-27/
LOCATION:CEX\, Av. Revolución 1291\, CDMX\, CDMX\, 01010\, Mexico
CATEGORIES:Taller
ATTACH;FMTTYPE=image/jpeg:https://cex.mx/wp-content/uploads/2025/03/seguir-el-rastro-del-mal.jpg
ORGANIZER;CN="Cex":MAILTO:cex@ibero.mx
END:VEVENT
BEGIN:VEVENT
DTSTART;TZID=America/Mexico_City:20250320T193000
DTEND;TZID=America/Mexico_City:20250320T210000
DTSTAMP:20260416T215228
CREATED:20250609T172915Z
LAST-MODIFIED:20250609T172915Z
UID:10001594-1742499000-1742504400@cex.mx
SUMMARY:Seguir el rastro del mal
DESCRIPTION:La novela negra\, el reflejo de las sombras de la realidad y la condición humana.Cuatro sesiones presenciales para leer\, debatir y repensar uno de los géneros literarios más cuestionados y a la vez\, más exitosos.Jueves del 20 de marzo al 10 de abril 19:30 a 21:00 horas\, en el CEX. \n\n\n\nIgnacio Guzmán \n\n\n\n\n\n\n\nIgnacio Guzmán\, escritor y guionista con más de 30 años de trayectoria. Interesado en todas las formas y usos de la palabra\, especialmente en la palabra relacional. Cercano a las artes escénicas\, Nacho imparte talleres de poesía y literatura\, enfocados a su escenificación y o “acuerpamiento” de las ideas hechas palabra \n\n\n\nCuota de recuperación por las 4 sesiones: $1\,200Becas disponibles.Informes\, becas e inscripciones en cex@ibero.mx \n\n\n\n\n$\n\n\n\n1200\n\n\n\n.00
URL:https://cex.mx/cevent/seguir-el-rastro-del-mal/2025-03-20/
LOCATION:CEX\, Av. Revolución 1291\, CDMX\, CDMX\, 01010\, Mexico
CATEGORIES:Taller
ATTACH;FMTTYPE=image/jpeg:https://cex.mx/wp-content/uploads/2025/03/seguir-el-rastro-del-mal.jpg
ORGANIZER;CN="Cex":MAILTO:cex@ibero.mx
END:VEVENT
BEGIN:VEVENT
DTSTART;TZID=America/Mexico_City:20220621T180000
DTEND;TZID=America/Mexico_City:20220621T203000
DTSTAMP:20260416T215228
CREATED:20250609T172957Z
LAST-MODIFIED:20250609T172957Z
UID:10001546-1655834400-1655843400@cex.mx
SUMMARY:En construcción
DESCRIPTION:[vc_row full_width=”stretch_row” gap=”5″ equal_height=”yes” css=”.vc_custom_1655402724354{background-color: #ffffff !important;}”][vc_column width=”1/2″][vc_column_text]Taller de creación de personajes. \nSin costo. Martes de 18:00 a 20:30 horas. \n……… \nCrear otra persona. \nParece imposible\, pero podemos intentarlo. \nPartiremos\, claro\, de conocernos más a profundidad a nosotras/os mismas/os. \nEl movimiento y la palabra serán el camino para encontrar a ese personaje…que soy y no soy yo al mismo tiempo. \nLa palabra al servicio de la acción y viceversa. Hablar y hacer\, de eso se trata. \nDe eso y del placer de la creatividad\, del trabajo en equipo\, de la congregación y complicidad.[/vc_column_text][/vc_column][vc_column width=”1/2″ css=”.vc_custom_1655402839603{background-color: #efefef !important;}”][vc_column_text]Postúlate aquí: \n[wpforms id=”1780″ title=”false”][/vc_column_text][/vc_column][/vc_row][vc_row][vc_column][vc_separator][/vc_column][/vc_row][vc_row][vc_column width=”1/2″][vc_column_text] \nIgnacio Guzmán\n \nIgnacio Guzmán\, escritor y guionista con más de 30 años de trayectoria. Interesado en todas las formas y usos de la palabra\, especialmente en la palabra relacional. Cercano a las artes escénicas\, Nacho imparte talleres de poesía y literatura\, enfocados a su escenificación y o “acuerpamiento” de las ideas hechas palabra.[/vc_column_text][/vc_column][vc_column width=”1/2″][vc_column_text] \nJosé Acosta\n \nJosé Acosta\, comunicólogo y creador escénico con más de treinta años de trayectoria. Fundador del icónico colectivo Taller de los Sótanos. \nHa dirigido teatro y televisión y últimamente se ha enfocado en la creación de técnicas humanistas enfocadas a propiciar el autoconocimiento y\, en consecuencia\, a mejorar la comunicación entre las personas\, las empresas e instituciones.[/vc_column_text][/vc_column][/vc_row][vc_row][vc_column][vc_separator][vc_empty_space height=”52px”][/vc_column][/vc_row]
URL:https://cex.mx/cevent/en-construccion/
LOCATION:CEX\, Av. Revolución 1291\, CDMX\, CDMX\, 01010\, Mexico
CATEGORIES:Taller
ATTACH;FMTTYPE=image/jpeg:https://cex.mx/wp-content/uploads/2022/06/desarrollo_de_personaje.jpg
ORGANIZER;CN="Cex":MAILTO:cex@ibero.mx
END:VEVENT
BEGIN:VEVENT
DTSTART;TZID=America/Mexico_City:20211005T180000
DTEND;TZID=America/Mexico_City:20211130T193000
DTSTAMP:20260416T215228
CREATED:20250609T172945Z
LAST-MODIFIED:20250609T172945Z
UID:10001541-1633456800-1638300600@cex.mx
SUMMARY:Excursiones e Inmersiones
DESCRIPTION:[vc_row][vc_column][vc_column_text]Poesía en el CEX\nExcursiones e inmersiones \n \nNueve caminos para llegar a la poesía \nPara cualquier persona que desee acercarse a la poesía.\nPara quienes ya se han acercado y quieren escribir poesía.\nPara quienes no la conocen y para quienes la aman. \nMirar\, escuchar\, emprender un viaje\, disfrutar del viaje\, sentir\, reflexionar y adentrarse\, quizá\, en la aventura de escribir para después regresar al silencio. \nSabiendo que: \n\nCada quien tiene un camino para llegar a la poesía.\nNo hay fórmulas.\nNo se puede enseñar a escribir\, pero si se puede aprender a escribir.\n\nMódulo I\nInspiración\, ritmo\, canción. \nPrimera sesión: Los surrealistas. \nSegunda sesión: La frase poética\, el ritmo. \nTercera sesión: El poema es una canción. \nMódulo I I \n Otras cosas\, otros nombres \nCuarta sesión: El poema es poesía y\, además\, otra cosa.\nQuinta sesión: Los heterónimos.\nSexta Sesión: Sensaciones. \nModulo I I I \n Relaciones\, imágenes\, experiencias \nSéptima sesión:  Las relaciones.\nOctava sesión:  Los imaginistas.\nNovena sesión: ¿Qué nombra la poesía?[/vc_column_text][/vc_column][/vc_row]
URL:https://cex.mx/cevent/excursiones-e-inmersiones/
LOCATION:CEX\, Av. Revolución 1291\, CDMX\, CDMX\, 01010\, Mexico
CATEGORIES:Taller
ATTACH;FMTTYPE=image/jpeg:https://cex.mx/wp-content/uploads/2021/09/ex-e-im.jpg
ORGANIZER;CN="Cex":MAILTO:cex@ibero.mx
END:VEVENT
END:VCALENDAR