BEGIN:VCALENDAR
VERSION:2.0
PRODID:-//Centro de Exploración y Pensamiento Crítico - ECPv6.15.15//NONSGML v1.0//EN
CALSCALE:GREGORIAN
METHOD:PUBLISH
X-WR-CALNAME:Centro de Exploración y Pensamiento Crítico
X-ORIGINAL-URL:https://cex.mx
X-WR-CALDESC:Eventos para Centro de Exploración y Pensamiento Crítico
REFRESH-INTERVAL;VALUE=DURATION:PT1H
X-Robots-Tag:noindex
X-PUBLISHED-TTL:PT1H
BEGIN:VTIMEZONE
TZID:America/Mexico_City
BEGIN:DAYLIGHT
TZOFFSETFROM:-0600
TZOFFSETTO:-0500
TZNAME:CDT
DTSTART:20220403T080000
END:DAYLIGHT
BEGIN:STANDARD
TZOFFSETFROM:-0500
TZOFFSETTO:-0600
TZNAME:CST
DTSTART:20221030T070000
END:STANDARD
END:VTIMEZONE
BEGIN:VEVENT
DTSTART;TZID=America/Mexico_City:20230308T183000
DTEND;TZID=America/Mexico_City:20230308T200000
DTSTAMP:20260422T202441
CREATED:20250609T172916Z
LAST-MODIFIED:20250609T172916Z
UID:10001557-1678300200-1678305600@cex.mx
SUMMARY:Una bomba también  es un juguete
DESCRIPTION:(taller de juguetería literaria para explotar algunos marzos) \nTaller práctico para dinamitar la inercia con que usamos ciertos conceptos y reescribirnos fuera de los cajones dicotómicos generados por la dinámica del slogan y las redes sociales. \nBuscamos\, a través de una serie de juguetes creativos\, dotar a las talleristas de herramientas para situar su propia experiencia y escuchar la experiencia de otras\, en una serie de maratones de escritura para soltar la pluma\, pero también los dogmas. \nTallerista \nZaría Abreu \nExclusivo para mujeres Marzo 8\, 15\, 22 y 29 18:30 hrs Vía zoom \nCosto cubierto a través de becas CEX. Enviar carta de motivos a cex@ibero.mx
URL:https://cex.mx/cevent/una-bomba-tambien-es-un-juguete/
LOCATION:CDMX
CATEGORIES:Seminario,Taller
ATTACH;FMTTYPE=image/png:https://cex.mx/wp-content/uploads/2023/02/Mesa-de-trabajo-3-1.png
ORGANIZER;CN="Cex":MAILTO:cex@ibero.mx
END:VEVENT
END:VCALENDAR